BEGIN:VCALENDAR
VERSION:2.0
PRODID:-// - ECPv6.15.15//NONSGML v1.0//EN
CALSCALE:GREGORIAN
METHOD:PUBLISH
X-ORIGINAL-URL:http://3.137.70.14
X-WR-CALDESC:Events for 
REFRESH-INTERVAL;VALUE=DURATION:PT1H
X-Robots-Tag:noindex
X-PUBLISHED-TTL:PT1H
BEGIN:VTIMEZONE
TZID:America/Chicago
BEGIN:DAYLIGHT
TZOFFSETFROM:-0600
TZOFFSETTO:-0500
TZNAME:CDT
DTSTART:20170312T080000
END:DAYLIGHT
BEGIN:STANDARD
TZOFFSETFROM:-0500
TZOFFSETTO:-0600
TZNAME:CST
DTSTART:20171105T070000
END:STANDARD
BEGIN:DAYLIGHT
TZOFFSETFROM:-0600
TZOFFSETTO:-0500
TZNAME:CDT
DTSTART:20180311T080000
END:DAYLIGHT
BEGIN:STANDARD
TZOFFSETFROM:-0500
TZOFFSETTO:-0600
TZNAME:CST
DTSTART:20181104T070000
END:STANDARD
BEGIN:DAYLIGHT
TZOFFSETFROM:-0600
TZOFFSETTO:-0500
TZNAME:CDT
DTSTART:20190310T080000
END:DAYLIGHT
BEGIN:STANDARD
TZOFFSETFROM:-0500
TZOFFSETTO:-0600
TZNAME:CST
DTSTART:20191103T070000
END:STANDARD
END:VTIMEZONE
BEGIN:VEVENT
DTSTART;TZID=America/Chicago:20180414T140000
DTEND;TZID=America/Chicago:20180414T170000
DTSTAMP:20260421T113123
CREATED:20180321T070217Z
LAST-MODIFIED:20180321T070217Z
UID:3192-1523714400-1523725200@3.137.70.14
SUMMARY:Fort Worth Makers Market
DESCRIPTION:Join me and other local artisans at Martin House Brewery for a pop-up market\, beer tasting and open house. Bring a lawn chair and enjoy the games and food trucks. The outdoor area is kid and pet friendly. \nFree for children and non-drinking customers. $10/person for a pint glass + 3 beers (Must have ID). Last call is 4:45 p.m. Credit cards are accepted. No reservations required.
URL:http://3.137.70.14/event/fort-worth-makers-market/
LOCATION:Martin House Brewing Company\, 220 S Sylvania Ave #209\, Fort Worth\, Texas\, 76111\, United States
CATEGORIES:Market
END:VEVENT
END:VCALENDAR