BEGIN:VCALENDAR
VERSION:2.0
PRODID:-// - ECPv6.15.15//NONSGML v1.0//EN
CALSCALE:GREGORIAN
METHOD:PUBLISH
X-ORIGINAL-URL:http://3.137.70.14
X-WR-CALDESC:Events for 
REFRESH-INTERVAL;VALUE=DURATION:PT1H
X-Robots-Tag:noindex
X-PUBLISHED-TTL:PT1H
BEGIN:VTIMEZONE
TZID:America/Chicago
BEGIN:DAYLIGHT
TZOFFSETFROM:-0600
TZOFFSETTO:-0500
TZNAME:CDT
DTSTART:20170312T080000
END:DAYLIGHT
BEGIN:STANDARD
TZOFFSETFROM:-0500
TZOFFSETTO:-0600
TZNAME:CST
DTSTART:20171105T070000
END:STANDARD
BEGIN:DAYLIGHT
TZOFFSETFROM:-0600
TZOFFSETTO:-0500
TZNAME:CDT
DTSTART:20180311T080000
END:DAYLIGHT
BEGIN:STANDARD
TZOFFSETFROM:-0500
TZOFFSETTO:-0600
TZNAME:CST
DTSTART:20181104T070000
END:STANDARD
BEGIN:DAYLIGHT
TZOFFSETFROM:-0600
TZOFFSETTO:-0500
TZNAME:CDT
DTSTART:20190310T080000
END:DAYLIGHT
BEGIN:STANDARD
TZOFFSETFROM:-0500
TZOFFSETTO:-0600
TZNAME:CST
DTSTART:20191103T070000
END:STANDARD
END:VTIMEZONE
BEGIN:VEVENT
DTSTART;TZID=America/Chicago:20180616T100000
DTEND;TZID=America/Chicago:20180616T180000
DTSTAMP:20260420T160517
CREATED:20180523T030723Z
LAST-MODIFIED:20180523T030723Z
UID:3323-1529143200-1529172000@3.137.70.14
SUMMARY:Pottery Barn Pop-Up Shop
DESCRIPTION:Drop in to Pottery Barn in Southlake\, TX and say “Hi!” I will have tortilla warmers\, tote bags\, jewelry pouches\, lanyards\, aprons\, dino tails and more!
URL:http://3.137.70.14/event/pottery-barn-pop-up-shop/
LOCATION:Pottery Barn\, 1440 Civic Pl\, Bldg 3-C\, Southlake\, TX\, 76092\, United States
CATEGORIES:Market
END:VEVENT
END:VCALENDAR