BEGIN:VCALENDAR
VERSION:2.0
PRODID:-// - ECPv6.15.15//NONSGML v1.0//EN
CALSCALE:GREGORIAN
METHOD:PUBLISH
X-ORIGINAL-URL:http://3.137.70.14
X-WR-CALDESC:Events for 
REFRESH-INTERVAL;VALUE=DURATION:PT1H
X-Robots-Tag:noindex
X-PUBLISHED-TTL:PT1H
BEGIN:VTIMEZONE
TZID:America/Chicago
BEGIN:DAYLIGHT
TZOFFSETFROM:-0600
TZOFFSETTO:-0500
TZNAME:CDT
DTSTART:20170312T080000
END:DAYLIGHT
BEGIN:STANDARD
TZOFFSETFROM:-0500
TZOFFSETTO:-0600
TZNAME:CST
DTSTART:20171105T070000
END:STANDARD
BEGIN:DAYLIGHT
TZOFFSETFROM:-0600
TZOFFSETTO:-0500
TZNAME:CDT
DTSTART:20180311T080000
END:DAYLIGHT
BEGIN:STANDARD
TZOFFSETFROM:-0500
TZOFFSETTO:-0600
TZNAME:CST
DTSTART:20181104T070000
END:STANDARD
BEGIN:DAYLIGHT
TZOFFSETFROM:-0600
TZOFFSETTO:-0500
TZNAME:CDT
DTSTART:20190310T080000
END:DAYLIGHT
BEGIN:STANDARD
TZOFFSETFROM:-0500
TZOFFSETTO:-0600
TZNAME:CST
DTSTART:20191103T070000
END:STANDARD
END:VTIMEZONE
BEGIN:VEVENT
DTSTART;TZID=America/Chicago:20181123T103000
DTEND;TZID=America/Chicago:20181125T170000
DTSTAMP:20260420T083818
CREATED:20181018T001546Z
LAST-MODIFIED:20181018T003533Z
UID:3565-1542969000-1543165200@3.137.70.14
SUMMARY:Home for the Holidays Christmas Festival and Market
DESCRIPTION:Join me in the heart of historic downtown McKinney to for 38th year of Home for the Holidays. It’s a magical celebration with friends\, family\, and visitors from all over. There will be activities for the entire family\, food\, music\, and a Christmas market. I will have finger puppet kits\, dino tails and snoods\, aprons\, totes\, pillows\, pouches\, ornaments and more handmade gifts for the family. Bring the family and enjoy a day and/or night on the square!
URL:http://3.137.70.14/event/home-for-the-holidays/
LOCATION:Historic Downtown McKinney\, 111 N. Tennessee St\, McKinney\, TX\, 75069
CATEGORIES:Market
ATTACH;FMTTYPE=image/jpeg:http://3.137.70.14/wp-content/uploads/2018/06/Christmas-Market.jpg
END:VEVENT
END:VCALENDAR