BEGIN:VCALENDAR
VERSION:2.0
PRODID:-// - ECPv6.15.15//NONSGML v1.0//EN
CALSCALE:GREGORIAN
METHOD:PUBLISH
X-ORIGINAL-URL:http://3.137.70.14
X-WR-CALDESC:Events for 
REFRESH-INTERVAL;VALUE=DURATION:PT1H
X-Robots-Tag:noindex
X-PUBLISHED-TTL:PT1H
BEGIN:VTIMEZONE
TZID:America/Chicago
BEGIN:DAYLIGHT
TZOFFSETFROM:-0600
TZOFFSETTO:-0500
TZNAME:CDT
DTSTART:20170312T080000
END:DAYLIGHT
BEGIN:STANDARD
TZOFFSETFROM:-0500
TZOFFSETTO:-0600
TZNAME:CST
DTSTART:20171105T070000
END:STANDARD
BEGIN:DAYLIGHT
TZOFFSETFROM:-0600
TZOFFSETTO:-0500
TZNAME:CDT
DTSTART:20180311T080000
END:DAYLIGHT
BEGIN:STANDARD
TZOFFSETFROM:-0500
TZOFFSETTO:-0600
TZNAME:CST
DTSTART:20181104T070000
END:STANDARD
BEGIN:DAYLIGHT
TZOFFSETFROM:-0600
TZOFFSETTO:-0500
TZNAME:CDT
DTSTART:20190310T080000
END:DAYLIGHT
BEGIN:STANDARD
TZOFFSETFROM:-0500
TZOFFSETTO:-0600
TZNAME:CST
DTSTART:20191103T070000
END:STANDARD
END:VTIMEZONE
BEGIN:VEVENT
DTSTART;TZID=America/Chicago:20181208T120000
DTEND;TZID=America/Chicago:20181208T190000
DTSTAMP:20260420T071721
CREATED:20180824T043832Z
LAST-MODIFIED:20180824T043832Z
UID:3453-1544270400-1544295600@3.137.70.14
SUMMARY:CityLine Merry Market & Festival
DESCRIPTION:Get in the holiday spirit and join me at CityLine’s second annual Merry Market & Festival on Saturday\, Dec. 8 from 12-7 PM in the Plaza. This FREE event will include all-day live music\, hot cocoa and sweets\, kid’s activities\, and an outdoor artisan market with 24 other vendors! I’ll have some fun new items just in time for Christmas!
URL:http://3.137.70.14/event/cityline-merry-market-festival/
LOCATION:CityLine DFW\, 1251 State Street\, Richardson\, Texas\, 75082
CATEGORIES:Market
ATTACH;FMTTYPE=image/jpeg:http://3.137.70.14/wp-content/uploads/2018/07/1113161552.jpg
END:VEVENT
END:VCALENDAR