BEGIN:VCALENDAR
VERSION:2.0
PRODID:-// - ECPv6.15.15//NONSGML v1.0//EN
CALSCALE:GREGORIAN
METHOD:PUBLISH
X-ORIGINAL-URL:http://3.137.70.14
X-WR-CALDESC:Events for 
REFRESH-INTERVAL;VALUE=DURATION:PT1H
X-Robots-Tag:noindex
X-PUBLISHED-TTL:PT1H
BEGIN:VTIMEZONE
TZID:America/Chicago
BEGIN:DAYLIGHT
TZOFFSETFROM:-0600
TZOFFSETTO:-0500
TZNAME:CDT
DTSTART:20180311T080000
END:DAYLIGHT
BEGIN:STANDARD
TZOFFSETFROM:-0500
TZOFFSETTO:-0600
TZNAME:CST
DTSTART:20181104T070000
END:STANDARD
BEGIN:DAYLIGHT
TZOFFSETFROM:-0600
TZOFFSETTO:-0500
TZNAME:CDT
DTSTART:20190310T080000
END:DAYLIGHT
BEGIN:STANDARD
TZOFFSETFROM:-0500
TZOFFSETTO:-0600
TZNAME:CST
DTSTART:20191103T070000
END:STANDARD
BEGIN:DAYLIGHT
TZOFFSETFROM:-0600
TZOFFSETTO:-0500
TZNAME:CDT
DTSTART:20200308T080000
END:DAYLIGHT
BEGIN:STANDARD
TZOFFSETFROM:-0500
TZOFFSETTO:-0600
TZNAME:CST
DTSTART:20201101T070000
END:STANDARD
END:VTIMEZONE
BEGIN:VEVENT
DTSTART;TZID=America/Chicago:20190331T110000
DTEND;TZID=America/Chicago:20190331T160000
DTSTAMP:20260420T030214
CREATED:20190318T181433Z
LAST-MODIFIED:20190318T181813Z
UID:4189-1554030000-1554048000@3.137.70.14
SUMMARY:CURATED: A MODERN POP-UP MARKET
DESCRIPTION:Say hello to CURATED: A Modern Pop-Up Market. \nEach month will have a different theme. The coolest part is this pop-up market will take place at the Little House on Routh\, located in the heart of Uptown Dallas. It will always be a place for anyone & everyone to come and share their passion\, purpose & story. \nThe opening Market is Sunday March 31st!  There will shopping\, The Photo Wagon\, music\, food\, a sangria bar\, The Tamale Company and of course FUN!! Most important there will be sense of community. \nStay up to date with cool things happening by following the link below: \nhttps://www.facebook.com/events/400571434025031/?ti=ia \nSee you soon.
URL:http://3.137.70.14/event/curated-a-modern-pop-up-market/
LOCATION:Little House on Routh Street\, 2310 Routh Street\, Dallas\, TX\, 75201
CATEGORIES:Market
ATTACH;FMTTYPE=image/jpeg:http://3.137.70.14/wp-content/uploads/2018/06/Coralbunnyandlo-6190A-scaled.jpg
END:VEVENT
END:VCALENDAR