BEGIN:VCALENDAR
VERSION:2.0
PRODID:-// - ECPv6.15.15//NONSGML v1.0//EN
CALSCALE:GREGORIAN
METHOD:PUBLISH
X-ORIGINAL-URL:http://3.137.70.14
X-WR-CALDESC:Events for 
REFRESH-INTERVAL;VALUE=DURATION:PT1H
X-Robots-Tag:noindex
X-PUBLISHED-TTL:PT1H
BEGIN:VTIMEZONE
TZID:America/Chicago
BEGIN:DAYLIGHT
TZOFFSETFROM:-0600
TZOFFSETTO:-0500
TZNAME:CDT
DTSTART:20180311T080000
END:DAYLIGHT
BEGIN:STANDARD
TZOFFSETFROM:-0500
TZOFFSETTO:-0600
TZNAME:CST
DTSTART:20181104T070000
END:STANDARD
BEGIN:DAYLIGHT
TZOFFSETFROM:-0600
TZOFFSETTO:-0500
TZNAME:CDT
DTSTART:20190310T080000
END:DAYLIGHT
BEGIN:STANDARD
TZOFFSETFROM:-0500
TZOFFSETTO:-0600
TZNAME:CST
DTSTART:20191103T070000
END:STANDARD
BEGIN:DAYLIGHT
TZOFFSETFROM:-0600
TZOFFSETTO:-0500
TZNAME:CDT
DTSTART:20200308T080000
END:DAYLIGHT
BEGIN:STANDARD
TZOFFSETFROM:-0500
TZOFFSETTO:-0600
TZNAME:CST
DTSTART:20201101T070000
END:STANDARD
END:VTIMEZONE
BEGIN:VEVENT
DTSTART;TZID=America/Chicago:20191020T130000
DTEND;TZID=America/Chicago:20191020T180000
DTSTAMP:20260419T153931
CREATED:20191016T234759Z
LAST-MODIFIED:20191016T234759Z
UID:4947-1571576400-1571594400@3.137.70.14
SUMMARY:Heyday Street Fair at Dallas Galleria
DESCRIPTION:Join us October 20th for our Heyday Street Fair? celebrating everything Fall this season at Galleria Dallas. \nWe’re turning our outdoor alley and plaza into a festive Fall experience\, fully decked out with hay bales\, pumpkins and harvest accoutrements. \nCome shop fall merchandise from local creatives carefully curated by Dallas’ Decent Collective. Select a pumpkin from our harvest-themed pumpkin patch in exchange for a donation to Hunger Busters. Take the perfect fall photo in front of a beautiful installation designed by The Foliar Collective. \nWhat’s in store:\n– local craft vendors curated by Decent selling all things fall\n– a pumpkin patch featuring hundreds of pumpkins\, take one home for a small donation to Hunger Busters\n– live music\n– food and drink samples from Galleria Dallas restaurants\n– happy hour drink specials at The Grill on the Alley patio\n– a festive photo booth designed by The Foliar Collective\, LLC \nThis event will be fun for the whole family. Come shop local and support a great local charity\, tag a friend to join you! \nWHEN:\nSunday\, October 20\, 2019\n1:00 – 6:00 pm \nWHERE:\nThe event will take place outdoors in our grand Alley at next to The Grill on the Alley (Dallas\, TX) \nCOST:\nFree!
URL:http://3.137.70.14/event/heyday-street-fair-at-dallas-galleria/
LOCATION:Dallas Galleria\, 13350 Dallas Pkwy\, Dallas\, TX\, 75240
CATEGORIES:Market
ATTACH;FMTTYPE=image/png:http://3.137.70.14/wp-content/uploads/2019/10/71923271_10156574163772227_8733342686725013504_o.png
ORGANIZER;CN="Decent Collective":MAILTO:hello@decentcollective.com
END:VEVENT
END:VCALENDAR