BEGIN:VCALENDAR
VERSION:2.0
PRODID:-// - ECPv6.15.15//NONSGML v1.0//EN
CALSCALE:GREGORIAN
METHOD:PUBLISH
X-ORIGINAL-URL:http://3.137.70.14
X-WR-CALDESC:Events for 
REFRESH-INTERVAL;VALUE=DURATION:PT1H
X-Robots-Tag:noindex
X-PUBLISHED-TTL:PT1H
BEGIN:VTIMEZONE
TZID:America/Chicago
BEGIN:DAYLIGHT
TZOFFSETFROM:-0600
TZOFFSETTO:-0500
TZNAME:CDT
DTSTART:20170312T080000
END:DAYLIGHT
BEGIN:STANDARD
TZOFFSETFROM:-0500
TZOFFSETTO:-0600
TZNAME:CST
DTSTART:20171105T070000
END:STANDARD
BEGIN:DAYLIGHT
TZOFFSETFROM:-0600
TZOFFSETTO:-0500
TZNAME:CDT
DTSTART:20180311T080000
END:DAYLIGHT
BEGIN:STANDARD
TZOFFSETFROM:-0500
TZOFFSETTO:-0600
TZNAME:CST
DTSTART:20181104T070000
END:STANDARD
BEGIN:DAYLIGHT
TZOFFSETFROM:-0600
TZOFFSETTO:-0500
TZNAME:CDT
DTSTART:20190310T080000
END:DAYLIGHT
BEGIN:STANDARD
TZOFFSETFROM:-0500
TZOFFSETTO:-0600
TZNAME:CST
DTSTART:20191103T070000
END:STANDARD
END:VTIMEZONE
BEGIN:VEVENT
DTSTART;TZID=America/Chicago:20180714T040000
DTEND;TZID=America/Chicago:20180714T190000
DTSTAMP:20260420T131817
CREATED:20180625T013710Z
LAST-MODIFIED:20180626T044953Z
UID:3395-1531540800-1531594800@3.137.70.14
SUMMARY:Second Saturday McKinney
DESCRIPTION:Join me Saturday\, July 14th\, in downtown McKinney\, TX! I will be set up at Kitchenwares on the Square located on Lousiana St\, next door to Mama’s Popcorn. They will be celebrating Christmas in July\, so come in and get ready for the holidays! I will have holiday themed aprons\, tortilla warmers\, and potholders along with my popular jewelry pouches\, fabric crowns\, totes\, and more!
URL:http://3.137.70.14/event/second-saturday-mckinney/
LOCATION:Kitchenwares on the Square\, 213 E Louisiana St\, McKinney\, TX\, 75069
CATEGORIES:Market
ATTACH;FMTTYPE=image/jpeg:http://3.137.70.14/wp-content/uploads/2018/06/Christmas-Market.jpg
END:VEVENT
BEGIN:VEVENT
DTSTART;TZID=America/Chicago:20180728T133000
DTEND;TZID=America/Chicago:20180728T160000
DTSTAMP:20260420T131817
CREATED:20180706T162611Z
LAST-MODIFIED:20180706T200359Z
UID:3415-1532784600-1532793600@3.137.70.14
SUMMARY:Spice Market Tote Bag
DESCRIPTION:Want to learn how to make your own tote bag? Amy Butler’s Spice Market Tote bag is not only perfect for the market\, but it’s a great size to carry books\, take on an overnight trip\, and much more. In this class\, you will learn the basics in bag making\, which includes cutting your interfacing\, sewing a box stitch and a lining. Great for beginners! \nRegister through Cabbage Rose at the link below or stop by the shop. \n**Please note\, pattern and supplies are not included in the class registration fee. All students receive a 10% discount on supplies for the class.
URL:http://3.137.70.14/event/spice-market-tote-bag-class/
LOCATION:Cabbage Rose Quilting and Fabrics\, Fort Worth\, Texas
CATEGORIES:Class
ATTACH;FMTTYPE=image/jpeg:http://3.137.70.14/wp-content/uploads/2018/03/Spice-Market-Tote.jpg
END:VEVENT
END:VCALENDAR