BEGIN:VCALENDAR
VERSION:2.0
PRODID:-// - ECPv6.15.15//NONSGML v1.0//EN
CALSCALE:GREGORIAN
METHOD:PUBLISH
X-ORIGINAL-URL:http://3.137.70.14
X-WR-CALDESC:Events for 
REFRESH-INTERVAL;VALUE=DURATION:PT1H
X-Robots-Tag:noindex
X-PUBLISHED-TTL:PT1H
BEGIN:VTIMEZONE
TZID:America/Chicago
BEGIN:DAYLIGHT
TZOFFSETFROM:-0600
TZOFFSETTO:-0500
TZNAME:CDT
DTSTART:20170312T080000
END:DAYLIGHT
BEGIN:STANDARD
TZOFFSETFROM:-0500
TZOFFSETTO:-0600
TZNAME:CST
DTSTART:20171105T070000
END:STANDARD
BEGIN:DAYLIGHT
TZOFFSETFROM:-0600
TZOFFSETTO:-0500
TZNAME:CDT
DTSTART:20180311T080000
END:DAYLIGHT
BEGIN:STANDARD
TZOFFSETFROM:-0500
TZOFFSETTO:-0600
TZNAME:CST
DTSTART:20181104T070000
END:STANDARD
BEGIN:DAYLIGHT
TZOFFSETFROM:-0600
TZOFFSETTO:-0500
TZNAME:CDT
DTSTART:20190310T080000
END:DAYLIGHT
BEGIN:STANDARD
TZOFFSETFROM:-0500
TZOFFSETTO:-0600
TZNAME:CST
DTSTART:20191103T070000
END:STANDARD
END:VTIMEZONE
BEGIN:VEVENT
DTSTART;TZID=America/Chicago:20181004T180000
DTEND;TZID=America/Chicago:20181004T200000
DTSTAMP:20260420T083706
CREATED:20180925T190317Z
LAST-MODIFIED:20180926T014805Z
UID:3497-1538676000-1538683200@3.137.70.14
SUMMARY:Noodlehead Zipper Pouch Sewing Workshop
DESCRIPTION:Join me for a fun night of sewing! We will be making Noodlehead’s zipper pouch while sipping on wine and munching on cheese and crackers. Bring your machine\, zipper foot\, rotary cutter and mat (or zippers)\, thread\, extra bobbins and needles\, and everything else will be provided. Hope to see you there!!
URL:http://3.137.70.14/event/noodlehead-zipper-pouch-sewing-workshop/
LOCATION:Shop Small Fort Worth’s The Collective\, 3608 Pershing Ave\, Fort Worth\, TX\, 76107
CATEGORIES:Class
ATTACH;FMTTYPE=image/jpeg:http://3.137.70.14/wp-content/uploads/2018/09/20180628_174528-scaled.jpg
END:VEVENT
BEGIN:VEVENT
DTSTART;TZID=America/Chicago:20181006T100000
DTEND;TZID=America/Chicago:20181006T130000
DTSTAMP:20260420T083706
CREATED:20180928T185544Z
LAST-MODIFIED:20181001T060827Z
UID:3528-1538820000-1538830800@3.137.70.14
SUMMARY:Work In Progress Class
DESCRIPTION:Have a project you need help finishing? Whether it’s a garment\, quilt\, or bag\, bring it to the shop and let me help you get past the problem and get it finished in time for the holidays!
URL:http://3.137.70.14/event/wip-help/
LOCATION:Cabbage Rose Quilting and Fabrics\, Fort Worth\, Texas
CATEGORIES:Class
ATTACH;FMTTYPE=image/jpeg:http://3.137.70.14/wp-content/uploads/2018/09/Class-Demo.jpg
END:VEVENT
BEGIN:VEVENT
DTSTART;TZID=America/Chicago:20181007T103000
DTEND;TZID=America/Chicago:20181007T163000
DTSTAMP:20260420T083706
CREATED:20180917T195740Z
LAST-MODIFIED:20180917T195740Z
UID:3482-1538908200-1538929800@3.137.70.14
SUMMARY:St. Andrew's Fall Festival and Handmade Market
DESCRIPTION:Join me for some family-friendly fun at the Saint Andrew Catholic School Fall Festival! There will be food\, a handmade market\, tournament\, and activities for all ages. The festival is open to the community\, so invite your family and friends.
URL:http://3.137.70.14/event/st-andrews-fall-festival-and-handmade-market/
LOCATION:Saint Andrew Catholic School\, 3304 Dryden Rd\, Fort Worth\, TX\, 76019
CATEGORIES:Market
ATTACH;FMTTYPE=image/jpeg:http://3.137.70.14/wp-content/uploads/2018/09/38821408_1131286833677530_3865513361454137344_n.jpg
END:VEVENT
BEGIN:VEVENT
DTSTART;TZID=America/Chicago:20181013T100000
DTEND;TZID=America/Chicago:20181013T140000
DTSTAMP:20260420T083706
CREATED:20180824T164324Z
LAST-MODIFIED:20180824T164324Z
UID:3463-1539424800-1539439200@3.137.70.14
SUMMARY:Sew to Grow Bespoke Blazer
DESCRIPTION:The Bespoke Blazer by Sew to Grow is a great introduction to sewing a partially lined jacket. In this class\, I will walk you through the steps to sewing princess seams\, attaching a collar\, and sewing a partial lining using the “burrito” method. \nRegister through Cabbage Rose at the link below or stop by the shop. \n**Please note\, pattern and supplies are not included in the class registration fee. All students receive a 10% discount on supplies for the class.
URL:http://3.137.70.14/event/sew-to-grow-bespoke-blazer-2/
LOCATION:Cabbage Rose Quilting and Fabrics\, Fort Worth\, Texas
CATEGORIES:Class
ATTACH;FMTTYPE=image/jpeg:http://3.137.70.14/wp-content/uploads/2018/01/IMG_3895-1-scaled.jpg
END:VEVENT
BEGIN:VEVENT
DTSTART;TZID=America/Chicago:20181020T080000
DTEND;TZID=America/Chicago:20181020T150000
DTSTAMP:20260420T083706
CREATED:20181018T003152Z
LAST-MODIFIED:20181018T003152Z
UID:3569-1540022400-1540047600@3.137.70.14
SUMMARY:Viridian Fall Fest and Artisan Market
DESCRIPTION:Join me for the annual Viridian Fall Festival and Artisan Market! There will be a pumpkin patch\, artisan market\, Pups in Pilates and food! I will have new finger puppet kits and lots of fun new product! \nSchedule:\nArtisan Market 8:00a-3:00p\nPumpkin Patch 8:00a-3:00p\nFree pumpkin painting with pumpkin purchase!\nFace Painters 9:00a-2:00p\nPetting Zoo 9:00a-2:00p\nPups & Pilates for Charity 9:00a-11:00a
URL:http://3.137.70.14/event/viridian-fall-fest-and-artisan-market/
LOCATION:Viridian DFW\, 1200 Viridian Park Lane\, Arlington\, TX\, 76005
CATEGORIES:Market
ATTACH;FMTTYPE=image/jpeg:http://3.137.70.14/wp-content/uploads/2018/10/40377016_1665938023511647_6081760814547599360_o.jpg
END:VEVENT
BEGIN:VEVENT
DTSTART;TZID=America/Chicago:20181020T170000
DTEND;TZID=America/Chicago:20181020T200000
DTSTAMP:20260420T083706
CREATED:20181009T231304Z
LAST-MODIFIED:20181014T040737Z
UID:3549-1540054800-1540065600@3.137.70.14
SUMMARY:Second Saturday
DESCRIPTION:***Rescheduled for October 20th!*** \nCome find me on the square\, rain or shine! I will be on the square making pumpkins and will have kits available to purchase. Bring a friend or the family and enjoy all the sales and fun activities that will be set up throughout downtown.
URL:http://3.137.70.14/event/second-saturday/
LOCATION:Historic Downtown McKinney\, 111 N. Tennessee St\, McKinney\, TX\, 75069
CATEGORIES:Market
ATTACH;FMTTYPE=image/jpeg:http://3.137.70.14/wp-content/uploads/2018/10/43473443_2168982209989038_5965409115411841024_o.jpg
END:VEVENT
BEGIN:VEVENT
DTSTART;TZID=America/Chicago:20181027T100000
DTEND;TZID=America/Chicago:20181027T170000
DTSTAMP:20260420T083706
CREATED:20180923T192306Z
LAST-MODIFIED:20180923T192306Z
UID:3490-1540634400-1540659600@3.137.70.14
SUMMARY:The Boho Market at Dallas Farmers Market
DESCRIPTION:Stemming from a love of quality one-of-a-kind items\, The Boho Market was formed by two sisters who saw a need for more places where hard-working makers and small business owners could showcase their amazing talents! \nRain or shine\, join me and a handful of other vendors for food\, family-friendly fun\, and shopping at the Dallas Farmers Market! I will have tails\, crowns\, and all the classic favorites along with new creations!
URL:http://3.137.70.14/event/the-boho-market-at-dallas-farmers-market/
LOCATION:Dallas Farmers Market\, 920 S Harwood St\, Dallas\, TX\, 75201
CATEGORIES:Market
ATTACH;FMTTYPE=image/jpeg:http://3.137.70.14/wp-content/uploads/2018/09/OctoberFlyerFINAL-1024x1024.jpg
END:VEVENT
BEGIN:VEVENT
DTSTART;TZID=America/Chicago:20181028T160000
DTEND;TZID=America/Chicago:20181028T200000
DTSTAMP:20260420T083706
CREATED:20181023T164230Z
LAST-MODIFIED:20181023T164230Z
UID:3574-1540742400-1540756800@3.137.70.14
SUMMARY:DIY Mini Fabric Pumpkin Make 'n Take
DESCRIPTION:Join me for a fun mini fabric pumpkin party from 4-8pm on Sunday\, October 28th at Picole Pops in Bishop Arts District! \nSwing by and try out a new pop flavor; stay and make a fabric pumpkin to take home! \nI will have an assortment of fabrics available for you you to choose from and will walk you through the steps to making your own fabric pumpkin. Bring a friend and make it a night in the district! \nAll supplies are included in the $15 fee for making ONE pumpkin.
URL:http://3.137.70.14/event/diy-mini-fabric-pumpkin-make-n-take/
LOCATION:Picole Pops (Bishop Arts)\, 415 W Davis Street\, Dallas\, TX\, 75208
CATEGORIES:Class
ATTACH;FMTTYPE=image/jpeg:http://3.137.70.14/wp-content/uploads/2018/10/43473443_2168982209989038_5965409115411841024_o.jpg
END:VEVENT
END:VCALENDAR