BEGIN:VCALENDAR
VERSION:2.0
PRODID:-// - ECPv6.15.15//NONSGML v1.0//EN
CALSCALE:GREGORIAN
METHOD:PUBLISH
X-ORIGINAL-URL:http://3.137.70.14
X-WR-CALDESC:Events for 
REFRESH-INTERVAL;VALUE=DURATION:PT1H
X-Robots-Tag:noindex
X-PUBLISHED-TTL:PT1H
BEGIN:VTIMEZONE
TZID:America/Chicago
BEGIN:DAYLIGHT
TZOFFSETFROM:-0600
TZOFFSETTO:-0500
TZNAME:CDT
DTSTART:20170312T080000
END:DAYLIGHT
BEGIN:STANDARD
TZOFFSETFROM:-0500
TZOFFSETTO:-0600
TZNAME:CST
DTSTART:20171105T070000
END:STANDARD
BEGIN:DAYLIGHT
TZOFFSETFROM:-0600
TZOFFSETTO:-0500
TZNAME:CDT
DTSTART:20180311T080000
END:DAYLIGHT
BEGIN:STANDARD
TZOFFSETFROM:-0500
TZOFFSETTO:-0600
TZNAME:CST
DTSTART:20181104T070000
END:STANDARD
BEGIN:DAYLIGHT
TZOFFSETFROM:-0600
TZOFFSETTO:-0500
TZNAME:CDT
DTSTART:20190310T080000
END:DAYLIGHT
BEGIN:STANDARD
TZOFFSETFROM:-0500
TZOFFSETTO:-0600
TZNAME:CST
DTSTART:20191103T070000
END:STANDARD
END:VTIMEZONE
BEGIN:VEVENT
DTSTART;TZID=America/Chicago:20181110T110000
DTEND;TZID=America/Chicago:20181110T170000
DTSTAMP:20260420T071723
CREATED:20180824T045034Z
LAST-MODIFIED:20180926T015015Z
UID:3458-1541847600-1541869200@3.137.70.14
SUMMARY:Artisan Pop-Up Market and Fall Festival
DESCRIPTION:Join me in the Camp Bowie District for a fun-filled fall festival! In celebration of cooler weather and the changing seasons\, the Camo Bowie District\, in partnership with the exclusive artisans of Fort Worth Makers\, will be hosting the first-ever Camp Bowie Fall Festival. \nThe fall festivities of the day begin at 11 AM with Fort Worth Makers lining East Sanguinet Park\, featuring more than 30 locally sourced and curated artisans. \nYard games such as life-sized Connect Four\, Yard Jenga\, and other entertainment will keep everyone having fun. Live acoustic tunes will carry a lively mood throughout the day. Simple food and drink from select Camp Bowie vendors will be available for purchase.
URL:http://3.137.70.14/event/artisan-pop-up-market-and-fall-festival/
LOCATION:East Sanguinet Park\, 5100 El Campo Avenue\, Fort Worth\, Texas\, 76107
CATEGORIES:Market
ATTACH;FMTTYPE=image/jpeg:http://3.137.70.14/wp-content/uploads/2018/08/41056732_468584563652924_7741849473558511616_o.jpg
END:VEVENT
BEGIN:VEVENT
DTSTART;TZID=America/Chicago:20181117T130000
DTEND;TZID=America/Chicago:20181117T153000
DTSTAMP:20260420T071723
CREATED:20180824T165153Z
LAST-MODIFIED:20180917T194305Z
UID:3466-1542459600-1542468600@3.137.70.14
SUMMARY:Adult and Kids PJ Pants Class
DESCRIPTION:In this class\, I will walk you through sewing a pair of pj pants\, just in time for the holidays! I will teach walk you through sewing a casing\, reinforcing seams\, and hemming. Make one for your littles\, your significant other\, yourself\, or the entire family! \nThis class is perfect for beginners\, or if you’re looking for something fun to do with your sewing bestie. \n**Please note\, pattern and fabric not included in class price.
URL:http://3.137.70.14/event/adult-and-kids-pj-pants-class/
LOCATION:Cabbage Rose Quilting and Fabrics\, Fort Worth\, Texas
CATEGORIES:Class
END:VEVENT
BEGIN:VEVENT
DTSTART;TZID=America/Chicago:20181123T103000
DTEND;TZID=America/Chicago:20181125T170000
DTSTAMP:20260420T071723
CREATED:20181018T001546Z
LAST-MODIFIED:20181018T003533Z
UID:3565-1542969000-1543165200@3.137.70.14
SUMMARY:Home for the Holidays Christmas Festival and Market
DESCRIPTION:Join me in the heart of historic downtown McKinney to for 38th year of Home for the Holidays. It’s a magical celebration with friends\, family\, and visitors from all over. There will be activities for the entire family\, food\, music\, and a Christmas market. I will have finger puppet kits\, dino tails and snoods\, aprons\, totes\, pillows\, pouches\, ornaments and more handmade gifts for the family. Bring the family and enjoy a day and/or night on the square!
URL:http://3.137.70.14/event/home-for-the-holidays/
LOCATION:Historic Downtown McKinney\, 111 N. Tennessee St\, McKinney\, TX\, 75069
CATEGORIES:Market
ATTACH;FMTTYPE=image/jpeg:http://3.137.70.14/wp-content/uploads/2018/06/Christmas-Market.jpg
END:VEVENT
END:VCALENDAR