BEGIN:VCALENDAR
VERSION:2.0
PRODID:-// - ECPv6.15.15//NONSGML v1.0//EN
CALSCALE:GREGORIAN
METHOD:PUBLISH
X-ORIGINAL-URL:http://3.137.70.14
X-WR-CALDESC:Events for 
REFRESH-INTERVAL;VALUE=DURATION:PT1H
X-Robots-Tag:noindex
X-PUBLISHED-TTL:PT1H
BEGIN:VTIMEZONE
TZID:America/Chicago
BEGIN:DAYLIGHT
TZOFFSETFROM:-0600
TZOFFSETTO:-0500
TZNAME:CDT
DTSTART:20180311T080000
END:DAYLIGHT
BEGIN:STANDARD
TZOFFSETFROM:-0500
TZOFFSETTO:-0600
TZNAME:CST
DTSTART:20181104T070000
END:STANDARD
BEGIN:DAYLIGHT
TZOFFSETFROM:-0600
TZOFFSETTO:-0500
TZNAME:CDT
DTSTART:20190310T080000
END:DAYLIGHT
BEGIN:STANDARD
TZOFFSETFROM:-0500
TZOFFSETTO:-0600
TZNAME:CST
DTSTART:20191103T070000
END:STANDARD
BEGIN:DAYLIGHT
TZOFFSETFROM:-0600
TZOFFSETTO:-0500
TZNAME:CDT
DTSTART:20200308T080000
END:DAYLIGHT
BEGIN:STANDARD
TZOFFSETFROM:-0500
TZOFFSETTO:-0600
TZNAME:CST
DTSTART:20201101T070000
END:STANDARD
END:VTIMEZONE
BEGIN:VEVENT
DTSTART;TZID=America/Chicago:20190511T080000
DTEND;TZID=America/Chicago:20190511T120000
DTSTAMP:20260419T221026
CREATED:20190510T161840Z
LAST-MODIFIED:20190510T163636Z
UID:4425-1557561600-1557576000@3.137.70.14
SUMMARY:Clearfork Spring Market
DESCRIPTION:Come shop small Saturday\, May 11th\, from 8AM to noon at the Clearfork Spring Market! Over 30 local artisans\, coffee cart\, food trucks\, and more! Fun for the entire family and gifts for your fave mom\, grad\, teacher\, and of course\, YOU! \n***Due to weather\, we will be set up on the 3rd floor of the Orange Parking Garage\, across from AMC and Pinstripes.
URL:http://3.137.70.14/event/clearfork-spring-market/
LOCATION:Shops at Clearfork\, 5001 Trailhead Bend Way\, Fort Worth\, TX\, 76109
CATEGORIES:Market
ATTACH;FMTTYPE=image/png:http://3.137.70.14/wp-content/uploads/2019/05/Relocation-spring-market-2019.png
END:VEVENT
BEGIN:VEVENT
DTSTART;TZID=America/Chicago:20190523T080000
DTEND;TZID=America/Chicago:20190523T170000
DTSTAMP:20260419T221026
CREATED:20190524T025806Z
LAST-MODIFIED:20190524T031251Z
UID:4448-1558598400-1558630800@3.137.70.14
SUMMARY:FW- Spice Market Tote Class
DESCRIPTION:Join me for a fun morning sewing Amy Butler’s Spice Market Tote Bag! This class is great for beginners and anyone looking for a fun activity to do with friends. In this class\, you will learn the basics of bag making and topstitching.
URL:http://3.137.70.14/event/fw-spice-market-tote-class/
LOCATION:Cabbage Rose Quilting and Fabrics\, Fort Worth\, Texas
CATEGORIES:Class
ATTACH;FMTTYPE=image/jpeg:http://3.137.70.14/wp-content/uploads/2018/03/Spice-Market-Tote.jpg
END:VEVENT
BEGIN:VEVENT
DTSTART;TZID=America/Chicago:20190525T100000
DTEND;TZID=America/Chicago:20190525T130000
DTSTAMP:20260419T221026
CREATED:20190510T163420Z
LAST-MODIFIED:20190510T163616Z
UID:4430-1558778400-1558789200@3.137.70.14
SUMMARY:Sew Serendipity Diane Kimono Dress
DESCRIPTION:Join me in making this spring and summer staple. Perfect for beginners\, this dress comes with different skirt options and lengths\, a waist tie\, and dolman sleeves. In this class\, you will learn how to sew a facing\, sew a button hole\, and gathering tips. \n***Please note pattern and supplies are not included with class fee. All students receive a 10% discount for supplies after registering.
URL:http://3.137.70.14/event/sew-serendipity-diane-kimono-dress/
LOCATION:TX
CATEGORIES:Class
ATTACH;FMTTYPE=image/jpeg:http://3.137.70.14/wp-content/uploads/2019/01/be0beb8ec1745c18c8ad4b4ae0b4af58.jpg
END:VEVENT
END:VCALENDAR