BEGIN:VCALENDAR
VERSION:2.0
PRODID:-// - ECPv6.15.15//NONSGML v1.0//EN
CALSCALE:GREGORIAN
METHOD:PUBLISH
X-ORIGINAL-URL:http://3.137.70.14
X-WR-CALDESC:Events for 
REFRESH-INTERVAL;VALUE=DURATION:PT1H
X-Robots-Tag:noindex
X-PUBLISHED-TTL:PT1H
BEGIN:VTIMEZONE
TZID:America/Chicago
BEGIN:DAYLIGHT
TZOFFSETFROM:-0600
TZOFFSETTO:-0500
TZNAME:CDT
DTSTART:20180311T080000
END:DAYLIGHT
BEGIN:STANDARD
TZOFFSETFROM:-0500
TZOFFSETTO:-0600
TZNAME:CST
DTSTART:20181104T070000
END:STANDARD
BEGIN:DAYLIGHT
TZOFFSETFROM:-0600
TZOFFSETTO:-0500
TZNAME:CDT
DTSTART:20190310T080000
END:DAYLIGHT
BEGIN:STANDARD
TZOFFSETFROM:-0500
TZOFFSETTO:-0600
TZNAME:CST
DTSTART:20191103T070000
END:STANDARD
BEGIN:DAYLIGHT
TZOFFSETFROM:-0600
TZOFFSETTO:-0500
TZNAME:CDT
DTSTART:20200308T080000
END:DAYLIGHT
BEGIN:STANDARD
TZOFFSETFROM:-0500
TZOFFSETTO:-0600
TZNAME:CST
DTSTART:20201101T070000
END:STANDARD
END:VTIMEZONE
BEGIN:VEVENT
DTSTART;TZID=America/Chicago:20190609T120000
DTEND;TZID=America/Chicago:20190609T150000
DTSTAMP:20260419T203704
CREATED:20190528T040135Z
LAST-MODIFIED:20190528T040845Z
UID:4453-1560081600-1560092400@3.137.70.14
SUMMARY:Plano- Intro to Sewing
DESCRIPTION:In this class you will learn to sew on your machine\, and you will learn how to do basic maintenance for your machine. You will also learn about fabrics and notions\, a variety of stitches\, learn to read a pattern and make a pincushion.
URL:http://3.137.70.14/event/plano-intro-to-sewing/
LOCATION:Michaels Stores\, 801 W 15th St\, Plano\, TX\, 75075
CATEGORIES:Class
ATTACH;FMTTYPE=image/jpeg:http://3.137.70.14/wp-content/uploads/2019/01/A20190108_013803.jpg
END:VEVENT
BEGIN:VEVENT
DTSTART;TZID=America/Chicago:20190622T090000
DTEND;TZID=America/Chicago:20190622T170000
DTSTAMP:20260419T203704
CREATED:20181221T054644Z
LAST-MODIFIED:20190318T182019Z
UID:3659-1561194000-1561222800@3.137.70.14
SUMMARY:Market at the Star
DESCRIPTION:Join me and 60+ vendors for a fun outdoor market at the Dallas Cowboys headquarters! I will have my new spring/summer 2019 collection available for you to shop! \nThere is no admission fee\, and there will be plenty of free parking for guests with various parking lots and garages surrounding the market. Additionally\, there will be activities for littles\, specials from local restaurants\, and more!
URL:http://3.137.70.14/event/market-at-the-star/
LOCATION:The Star\, 9 Cowboys Way\, Frisco\, TX\, 75034
CATEGORIES:Market
ATTACH;FMTTYPE=image/jpeg:http://3.137.70.14/wp-content/uploads/2018/06/Coralbunnyandlo-6190A-scaled.jpg
END:VEVENT
BEGIN:VEVENT
DTSTART;TZID=America/Chicago:20190630T120000
DTEND;TZID=America/Chicago:20190630T150000
DTSTAMP:20260419T203704
CREATED:20190528T040626Z
LAST-MODIFIED:20190528T040626Z
UID:4456-1561896000-1561906800@3.137.70.14
SUMMARY:Plano- Intro to Sewing
DESCRIPTION:In this class you will learn to sew on your machine\, and you will learn how to do basic maintenance for your machine. You will also learn about fabrics and notions\, a variety of stitches\, learn to read a pattern and make a pincushion.
URL:http://3.137.70.14/event/plano-intro-to-sewing-2/
LOCATION:Michaels Stores\, 801 W 15th St\, Plano\, TX\, 75075
CATEGORIES:Class
ATTACH;FMTTYPE=image/jpeg:http://3.137.70.14/wp-content/uploads/2019/01/A20190108_013803.jpg
END:VEVENT
END:VCALENDAR