BEGIN:VCALENDAR
VERSION:2.0
PRODID:-// - ECPv6.15.15//NONSGML v1.0//EN
CALSCALE:GREGORIAN
METHOD:PUBLISH
X-ORIGINAL-URL:http://3.137.70.14
X-WR-CALDESC:Events for 
REFRESH-INTERVAL;VALUE=DURATION:PT1H
X-Robots-Tag:noindex
X-PUBLISHED-TTL:PT1H
BEGIN:VTIMEZONE
TZID:America/Chicago
BEGIN:DAYLIGHT
TZOFFSETFROM:-0600
TZOFFSETTO:-0500
TZNAME:CDT
DTSTART:20180311T080000
END:DAYLIGHT
BEGIN:STANDARD
TZOFFSETFROM:-0500
TZOFFSETTO:-0600
TZNAME:CST
DTSTART:20181104T070000
END:STANDARD
BEGIN:DAYLIGHT
TZOFFSETFROM:-0600
TZOFFSETTO:-0500
TZNAME:CDT
DTSTART:20190310T080000
END:DAYLIGHT
BEGIN:STANDARD
TZOFFSETFROM:-0500
TZOFFSETTO:-0600
TZNAME:CST
DTSTART:20191103T070000
END:STANDARD
BEGIN:DAYLIGHT
TZOFFSETFROM:-0600
TZOFFSETTO:-0500
TZNAME:CDT
DTSTART:20200308T080000
END:DAYLIGHT
BEGIN:STANDARD
TZOFFSETFROM:-0500
TZOFFSETTO:-0600
TZNAME:CST
DTSTART:20201101T070000
END:STANDARD
END:VTIMEZONE
BEGIN:VEVENT
DTSTART;TZID=America/Chicago:20191207T120000
DTEND;TZID=America/Chicago:20191207T190000
DTSTAMP:20260419T110114
CREATED:20191207T180036Z
LAST-MODIFIED:20191114T171951Z
UID:5054-1575720000-1575745200@3.137.70.14
SUMMARY:CityLine Merry Market
DESCRIPTION:Get in the holiday spirit and support local artists and vendors at CityLine’s third annual Merry Market & Festival on Saturday\, Dec. 7 from 12-7 PM in the Plaza. This free event will include all-day live music\, hot cocoa and cookies\, kid’s activities\, and an artisan market! \nACTIVITIES THROUGHOUT THE DAY:\n– Local vendors\n– Crafts for the kids\n– Modern Wreath-Making Workshop at Merry Market – Join us for this 30-minute workshop to create a modern wreath design of live greenery on a slim brass hoop. Cost is $24 to make one wreath. Workshops will be held at 3pm\, 4:30pm\, and 6pm. Space is limited. Register:  http://citylinedfw.com/events/class-series-modern-wreath-making-workshop-at-merry-market/\n– Photo Booth & Photos with Scrooge\n– And more!
URL:http://3.137.70.14/event/cityline-merry-market/
LOCATION:CityLine DFW\, 1251 State Street\, Richardson\, Texas\, 75082
CATEGORIES:Market
ATTACH;FMTTYPE=image/jpeg:http://3.137.70.14/wp-content/uploads/2019/11/10484_MerryMarket2019_instagram-Post_01.jpg
END:VEVENT
BEGIN:VEVENT
DTSTART;TZID=America/Chicago:20191218T183000
DTEND;TZID=America/Chicago:20191218T203000
DTSTAMP:20260419T110114
CREATED:20191117T183644Z
LAST-MODIFIED:20191201T185329Z
UID:5057-1576693800-1576701000@3.137.70.14
SUMMARY:Wreath Making & Cocktails with Coral Bunny and Lo
DESCRIPTION:Join Jess of Coral Bunny and Lo for a festive night of wreath making and cocktails! All supplies are included with your ticket. \nEach person will receive: \n\n2 Yarn Skeins\n12” Wreath Form\nTrims\n\nThere will be a variety of trims\, figurines\, and other embellishments for you to choose from and use on your wreath. Add as much or as little as you’d like. You will learn how to make the trees pictured and how to adhere the yarn and trinkets to your wreath. \nDon’t forget there will be light bites and cocktails! You’ll also receive a few fun items from local makers!
URL:http://3.137.70.14/event/wreath-making-cocktails-with-coral-bunny-and-lo/
LOCATION:Sadie Madison Wellness Spa\, 4255 Bryant Irvin Rd\, Fort Worth\, TX\, 76109
CATEGORIES:Class
ATTACH;FMTTYPE=image/png:http://3.137.70.14/wp-content/uploads/2019/11/20191117_111124_0000.png
END:VEVENT
END:VCALENDAR